Package: immunoClust Version: 1.38.0 Command: /home/biocbuild/R/R/bin/R CMD build --keep-empty-dirs --no-resave-data immunoClust StartedAt: 2025-04-01 00:16:57 -0000 (Tue, 01 Apr 2025) EndedAt: 2025-04-01 00:20:17 -0000 (Tue, 01 Apr 2025) EllapsedTime: 200.1 seconds RetCode: 1 Status: ERROR PackageFile: None PackageFileSize: NA