Package: immunoClust Version: 1.38.0 Command: rm -rf immunoClust.buildbin-libdir && mkdir immunoClust.buildbin-libdir && F:\biocbuild\bbs-3.20-bioc\R\bin\R.exe CMD INSTALL --build --library=immunoClust.buildbin-libdir immunoClust_1.38.0.tar.gz StartedAt: 2025-04-01 08:25:41 -0400 (Tue, 01 Apr 2025) EndedAt: 2025-04-01 08:27:43 -0400 (Tue, 01 Apr 2025) EllapsedTime: 121.3 seconds RetCode: 0 Status: OK PackageFile: immunoClust_1.38.0.zip PackageFileSize: 3.55 MiB