Package: immunoClust Version: 1.38.0 Command: /Library/Frameworks/R.framework/Resources/bin/R CMD check --install=check:immunoClust.install-out.txt --library=/Library/Frameworks/R.framework/Resources/library --no-vignettes --timings immunoClust_1.38.0.tar.gz StartedAt: 2025-02-04 05:10:04 -0500 (Tue, 04 Feb 2025) EndedAt: 2025-02-04 05:15:06 -0500 (Tue, 04 Feb 2025) EllapsedTime: 301.8 seconds RetCode: 0 Status: OK CheckDir: immunoClust.Rcheck Warnings: 0