Package: immunoClust Version: 1.38.0 Command: rm -rf immunoClust.buildbin-libdir && mkdir immunoClust.buildbin-libdir && /Users/biocbuild/BBS/utils/build-universal.sh immunoClust_1.38.0.tar.gz /Library/Frameworks/R.framework/Resources/bin/R immunoClust.buildbin-libdir StartedAt: 2025-02-04 13:10:56 -0500 (Tue, 04 Feb 2025) EndedAt: 2025-02-04 13:12:20 -0500 (Tue, 04 Feb 2025) EllapsedTime: 83.9 seconds RetCode: 0 Status: OK PackageFile: immunoClust_1.38.0.tgz PackageFileSize: 3.378 MiB