Package: immApex Version: 1.0.4 Command: chmod a+r immApex -R && F:\biocbuild\bbs-3.20-bioc\R\bin\R.exe CMD build --keep-empty-dirs --no-resave-data immApex StartedAt: 2025-01-27 19:37:19 -0500 (Mon, 27 Jan 2025) EndedAt: 2025-01-27 19:42:06 -0500 (Mon, 27 Jan 2025) EllapsedTime: 286.9 seconds RetCode: 0 Status: OK PackageFile: immApex_1.0.4.tar.gz PackageFileSize: 2.779 MiB