Package: immApex Version: 1.0.4 Command: rm -rf immApex.buildbin-libdir && mkdir immApex.buildbin-libdir && F:\biocbuild\bbs-3.20-bioc\R\bin\R.exe CMD INSTALL --build --library=immApex.buildbin-libdir immApex_1.0.4.tar.gz StartedAt: 2025-01-28 08:22:08 -0500 (Tue, 28 Jan 2025) EndedAt: 2025-01-28 08:22:59 -0500 (Tue, 28 Jan 2025) EllapsedTime: 50.6 seconds RetCode: 0 Status: OK PackageFile: immApex_1.0.4.zip PackageFileSize: 1.682 MiB