Package: imcRtools Version: 1.12.0 Command: /home/biocbuild/R/R/bin/R CMD build --keep-empty-dirs --no-resave-data imcRtools StartedAt: 2025-01-28 01:02:01 -0000 (Tue, 28 Jan 2025) EndedAt: 2025-01-28 01:02:02 -0000 (Tue, 28 Jan 2025) EllapsedTime: 1.0 seconds RetCode: 1 Status: ERROR PackageFile: None PackageFileSize: NA