Package: imcRtools Version: 1.12.0 Command: chmod a+r imcRtools -R && F:\biocbuild\bbs-3.20-bioc\R\bin\R.exe CMD build --keep-empty-dirs --no-resave-data imcRtools StartedAt: 2025-03-31 19:38:02 -0400 (Mon, 31 Mar 2025) EndedAt: 2025-03-31 19:43:37 -0400 (Mon, 31 Mar 2025) EllapsedTime: 334.8 seconds RetCode: 0 Status: OK PackageFile: imcRtools_1.12.0.tar.gz PackageFileSize: 2.205 MiB