Package: imcRtools Version: 1.12.0 Command: rm -rf imcRtools.buildbin-libdir && mkdir imcRtools.buildbin-libdir && F:\biocbuild\bbs-3.20-bioc\R\bin\R.exe CMD INSTALL --build --library=imcRtools.buildbin-libdir imcRtools_1.12.0.tar.gz StartedAt: 2025-04-01 08:25:33 -0400 (Tue, 01 Apr 2025) EndedAt: 2025-04-01 08:27:01 -0400 (Tue, 01 Apr 2025) EllapsedTime: 88.0 seconds RetCode: 0 Status: OK PackageFile: imcRtools_1.12.0.zip PackageFileSize: 2.03 MiB