Package: imcRtools Version: 1.12.0 Command: /home/biocbuild/bbs-3.20-bioc/R/bin/R CMD INSTALL imcRtools StartedAt: 2025-01-27 16:35:09 -0500 (Mon, 27 Jan 2025) EndedAt: 2025-01-27 16:36:10 -0500 (Mon, 27 Jan 2025) EllapsedTime: 61.2 seconds RetCode: 0 Status: OK