Package: imcRtools Version: 1.12.0 Command: /Library/Frameworks/R.framework/Resources/bin/R CMD check --install=check:imcRtools.install-out.txt --library=/Library/Frameworks/R.framework/Resources/library --no-vignettes --timings imcRtools_1.12.0.tar.gz StartedAt: 2025-01-28 05:20:00 -0500 (Tue, 28 Jan 2025) EndedAt: 2025-01-28 05:58:00 -0500 (Tue, 28 Jan 2025) EllapsedTime: 2280.1 seconds RetCode: 0 Status: OK CheckDir: imcRtools.Rcheck Warnings: 0