Package: imcRtools Version: 1.12.0 Command: /Library/Frameworks/R.framework/Resources/bin/R CMD build --keep-empty-dirs --no-resave-data imcRtools StartedAt: 2025-01-27 19:47:58 -0500 (Mon, 27 Jan 2025) EndedAt: 2025-01-27 19:54:32 -0500 (Mon, 27 Jan 2025) EllapsedTime: 394.4 seconds RetCode: 0 Status: OK PackageFile: imcRtools_1.12.0.tar.gz PackageFileSize: 6.772 MiB