Package: imcRtools Version: 1.12.0 Command: /Library/Frameworks/R.framework/Resources/bin/R CMD INSTALL imcRtools StartedAt: 2025-01-27 17:13:21 -0500 (Mon, 27 Jan 2025) EndedAt: 2025-01-27 17:14:25 -0500 (Mon, 27 Jan 2025) EllapsedTime: 63.9 seconds RetCode: 0 Status: OK