Package: imcRtools Version: 1.12.0 Command: /Library/Frameworks/R.framework/Resources/bin/R CMD check --install=check:imcRtools.install-out.txt --library=/Library/Frameworks/R.framework/Resources/library --no-vignettes --timings imcRtools_1.12.0.tar.gz StartedAt: 2025-01-28 22:17:50 -0500 (Tue, 28 Jan 2025) EndedAt: 2025-01-28 22:36:03 -0500 (Tue, 28 Jan 2025) EllapsedTime: 1093.2 seconds RetCode: 1 Status: ERROR CheckDir: imcRtools.Rcheck Warnings: NA