Package: imcRtools Version: 1.12.0 Command: /Library/Frameworks/R.framework/Resources/bin/R CMD build --keep-empty-dirs --no-resave-data imcRtools StartedAt: 2025-04-01 01:32:48 -0400 (Tue, 01 Apr 2025) EndedAt: 2025-04-01 01:35:45 -0400 (Tue, 01 Apr 2025) EllapsedTime: 177.5 seconds RetCode: 0 Status: OK PackageFile: imcRtools_1.12.0.tar.gz PackageFileSize: 6.772 MiB