Package: illuminaio Version: 0.48.0 Command: /home/biocbuild/bbs-3.20-bioc/R/bin/R CMD INSTALL illuminaio StartedAt: 2025-02-10 15:16:34 -0500 (Mon, 10 Feb 2025) EndedAt: 2025-02-10 15:16:40 -0500 (Mon, 10 Feb 2025) EllapsedTime: 6.6 seconds RetCode: 0 Status: OK