Package: illuminaio Version: 0.48.0 Command: /home/biocbuild/bbs-3.20-bioc/R/bin/R CMD build --keep-empty-dirs --no-resave-data --md5 illuminaio StartedAt: 2025-02-10 17:44:41 -0500 (Mon, 10 Feb 2025) EndedAt: 2025-02-10 17:44:53 -0500 (Mon, 10 Feb 2025) EllapsedTime: 12.0 seconds RetCode: 0 Status: OK PackageFile: illuminaio_0.48.0.tar.gz PackageFileSize: 479.2 KiB