Package: illuminaio Version: 0.48.0 Command: /Library/Frameworks/R.framework/Resources/bin/R CMD INSTALL illuminaio StartedAt: 2025-02-03 15:24:33 -0500 (Mon, 03 Feb 2025) EndedAt: 2025-02-03 15:24:36 -0500 (Mon, 03 Feb 2025) EllapsedTime: 3.5 seconds RetCode: 0 Status: OK