Package: illuminaio Version: 0.48.0 Command: /Library/Frameworks/R.framework/Resources/bin/R CMD build --keep-empty-dirs --no-resave-data illuminaio StartedAt: 2025-02-04 01:43:30 -0500 (Tue, 04 Feb 2025) EndedAt: 2025-02-04 01:43:55 -0500 (Tue, 04 Feb 2025) EllapsedTime: 24.8 seconds RetCode: 0 Status: OK PackageFile: illuminaio_0.48.0.tar.gz PackageFileSize: 429.5 KiB