Package: igvShiny Version: 1.2.0 Command: F:\biocbuild\bbs-3.20-bioc\R\bin\R.exe CMD INSTALL igvShiny StartedAt: 2025-01-27 15:55:00 -0500 (Mon, 27 Jan 2025) EndedAt: 2025-01-27 15:56:03 -0500 (Mon, 27 Jan 2025) EllapsedTime: 62.2 seconds RetCode: 0 Status: OK