Package: igvShiny Version: 1.2.0 Command: chmod a+r igvShiny -R && F:\biocbuild\bbs-3.20-bioc\R\bin\R.exe CMD build --keep-empty-dirs --no-resave-data igvShiny StartedAt: 2025-01-27 19:35:46 -0500 (Mon, 27 Jan 2025) EndedAt: 2025-01-27 19:37:18 -0500 (Mon, 27 Jan 2025) EllapsedTime: 92.4 seconds RetCode: 0 Status: OK PackageFile: igvShiny_1.2.0.tar.gz PackageFileSize: 4.22 MiB