Package: igvR Version: 1.26.0 Command: /home/biocbuild/bbs-3.20-bioc/R/bin/R CMD check --install=check:igvR.install-out.txt --library=/home/biocbuild/bbs-3.20-bioc/R/site-library --timings igvR_1.26.0.tar.gz StartedAt: 2025-03-31 23:05:19 -0400 (Mon, 31 Mar 2025) EndedAt: 2025-03-31 23:09:55 -0400 (Mon, 31 Mar 2025) EllapsedTime: 276.3 seconds RetCode: 0 Status: OK CheckDir: igvR.Rcheck Warnings: 0