Package: igvR Version: 1.26.0 Command: /Library/Frameworks/R.framework/Resources/bin/R CMD check --install=check:igvR.install-out.txt --library=/Library/Frameworks/R.framework/Resources/library --no-vignettes --timings igvR_1.26.0.tar.gz StartedAt: 2025-04-01 22:12:06 -0400 (Tue, 01 Apr 2025) EndedAt: 2025-04-01 22:17:06 -0400 (Tue, 01 Apr 2025) EllapsedTime: 300.7 seconds RetCode: 0 Status: OK CheckDir: igvR.Rcheck Warnings: 0