Package: idr2d Version: 1.20.0 Command: F:\biocbuild\bbs-3.20-bioc\R\bin\R.exe CMD INSTALL idr2d StartedAt: 2025-01-27 15:47:06 -0500 (Mon, 27 Jan 2025) EndedAt: 2025-01-27 15:47:33 -0500 (Mon, 27 Jan 2025) EllapsedTime: 27.3 seconds RetCode: 0 Status: OK