Package: idr2d Version: 1.20.0 Command: /Library/Frameworks/R.framework/Resources/bin/R CMD INSTALL idr2d StartedAt: 2025-03-31 15:23:24 -0400 (Mon, 31 Mar 2025) EndedAt: 2025-03-31 15:23:57 -0400 (Mon, 31 Mar 2025) EllapsedTime: 33.1 seconds RetCode: 0 Status: OK