Package: idr2d Version: 1.20.0 Command: /Library/Frameworks/R.framework/Resources/bin/R CMD build --keep-empty-dirs --no-resave-data idr2d StartedAt: 2025-03-31 19:26:53 -0400 (Mon, 31 Mar 2025) EndedAt: 2025-03-31 19:28:09 -0400 (Mon, 31 Mar 2025) EllapsedTime: 75.3 seconds RetCode: 0 Status: OK PackageFile: idr2d_1.20.0.tar.gz PackageFileSize: 1.647 MiB