Package: idpr Version: 1.16.0 Command: /home/biocbuild/bbs-3.20-bioc/R/bin/R CMD check --install=check:idpr.install-out.txt --library=/home/biocbuild/bbs-3.20-bioc/R/site-library --timings idpr_1.16.0.tar.gz StartedAt: 2025-03-31 23:04:41 -0400 (Mon, 31 Mar 2025) EndedAt: 2025-03-31 23:06:23 -0400 (Mon, 31 Mar 2025) EllapsedTime: 102.1 seconds RetCode: 0 Status: OK CheckDir: idpr.Rcheck Warnings: 0