Package: idpr Version: 1.16.0 Command: /Library/Frameworks/R.framework/Resources/bin/R CMD check --install=check:idpr.install-out.txt --library=/Library/Frameworks/R.framework/Resources/library --no-vignettes --timings idpr_1.16.0.tar.gz StartedAt: 2025-04-01 04:25:48 -0400 (Tue, 01 Apr 2025) EndedAt: 2025-04-01 04:27:34 -0400 (Tue, 01 Apr 2025) EllapsedTime: 105.6 seconds RetCode: 0 Status: OK CheckDir: idpr.Rcheck Warnings: 0