Package: idpr Version: 1.16.0 Command: rm -rf idpr.buildbin-libdir && mkdir idpr.buildbin-libdir && /Users/biocbuild/BBS/utils/build-universal.sh idpr_1.16.0.tar.gz /Library/Frameworks/R.framework/Resources/bin/R idpr.buildbin-libdir StartedAt: 2025-04-01 12:04:13 -0400 (Tue, 01 Apr 2025) EndedAt: 2025-04-01 12:04:26 -0400 (Tue, 01 Apr 2025) EllapsedTime: 13.1 seconds RetCode: 0 Status: OK PackageFile: idpr_1.16.0.tgz PackageFileSize: 3.699 MiB