Package: idpr Version: 1.16.0 Command: /Library/Frameworks/R.framework/Resources/bin/R CMD INSTALL idpr StartedAt: 2025-02-10 15:37:12 -0500 (Mon, 10 Feb 2025) EndedAt: 2025-02-10 15:37:18 -0500 (Mon, 10 Feb 2025) EllapsedTime: 5.3 seconds RetCode: 0 Status: OK