Package: idiogram Version: 1.82.0 Command: F:\biocbuild\bbs-3.20-bioc\R\bin\R.exe CMD INSTALL idiogram StartedAt: 2025-01-27 16:02:48 -0500 (Mon, 27 Jan 2025) EndedAt: 2025-01-27 16:03:11 -0500 (Mon, 27 Jan 2025) EllapsedTime: 23.5 seconds RetCode: 0 Status: OK