Package: idiogram Version: 1.82.0 Command: chmod a+r idiogram -R && F:\biocbuild\bbs-3.20-bioc\R\bin\R.exe CMD build --keep-empty-dirs --no-resave-data idiogram StartedAt: 2025-01-27 19:34:57 -0500 (Mon, 27 Jan 2025) EndedAt: 2025-01-27 19:35:31 -0500 (Mon, 27 Jan 2025) EllapsedTime: 34.2 seconds RetCode: 0 Status: OK PackageFile: idiogram_1.82.0.tar.gz PackageFileSize: 1.712 MiB