Package: idiogram Version: 1.82.0 Command: rm -rf idiogram.buildbin-libdir && mkdir idiogram.buildbin-libdir && F:\biocbuild\bbs-3.20-bioc\R\bin\R.exe CMD INSTALL --build --library=idiogram.buildbin-libdir idiogram_1.82.0.tar.gz StartedAt: 2025-01-28 08:21:32 -0500 (Tue, 28 Jan 2025) EndedAt: 2025-01-28 08:22:24 -0500 (Tue, 28 Jan 2025) EllapsedTime: 52.1 seconds RetCode: 0 Status: OK PackageFile: idiogram_1.82.0.zip PackageFileSize: 3.642 MiB