Package: idiogram Version: 1.81.0 Command: rm -rf idiogram.buildbin-libdir && mkdir idiogram.buildbin-libdir && F:\biocbuild\bbs-3.20-bioc\R\bin\R.exe CMD INSTALL --build --library=idiogram.buildbin-libdir idiogram_1.81.0.tar.gz StartedAt: 2024-06-10 13:55:43 -0400 (Mon, 10 Jun 2024) EndedAt: 2024-06-10 13:56:52 -0400 (Mon, 10 Jun 2024) EllapsedTime: 69.0 seconds RetCode: 0 Status: OK PackageFile: idiogram_1.81.0.zip PackageFileSize: 3.642 MiB