Package: idiogram Version: 1.82.0 Command: /Library/Frameworks/R.framework/Resources/bin/R CMD INSTALL idiogram StartedAt: 2025-02-03 15:37:42 -0500 (Mon, 03 Feb 2025) EndedAt: 2025-02-03 15:38:29 -0500 (Mon, 03 Feb 2025) EllapsedTime: 47.0 seconds RetCode: 0 Status: OK