Package: idiogram Version: 1.82.0 Command: /Library/Frameworks/R.framework/Resources/bin/R CMD build --keep-empty-dirs --no-resave-data idiogram StartedAt: 2025-02-03 19:41:22 -0500 (Mon, 03 Feb 2025) EndedAt: 2025-02-03 19:42:20 -0500 (Mon, 03 Feb 2025) EllapsedTime: 57.4 seconds RetCode: 0 Status: OK PackageFile: idiogram_1.82.0.tar.gz PackageFileSize: 1.795 MiB