Package: idiogram Version: 1.82.0 Command: rm -rf idiogram.buildbin-libdir && mkdir idiogram.buildbin-libdir && /Users/biocbuild/BBS/utils/build-universal.sh idiogram_1.82.0.tar.gz /Library/Frameworks/R.framework/Resources/bin/R idiogram.buildbin-libdir StartedAt: 2025-02-04 13:10:23 -0500 (Tue, 04 Feb 2025) EndedAt: 2025-02-04 13:11:13 -0500 (Tue, 04 Feb 2025) EllapsedTime: 50.5 seconds RetCode: 0 Status: OK PackageFile: idiogram_1.82.0.tgz PackageFileSize: 3.762 MiB