Package: idiogram Version: 1.82.0 Command: /Library/Frameworks/R.framework/Resources/bin/R CMD build --keep-empty-dirs --no-resave-data idiogram StartedAt: 2025-01-28 01:37:34 -0500 (Tue, 28 Jan 2025) EndedAt: 2025-01-28 01:38:07 -0500 (Tue, 28 Jan 2025) EllapsedTime: 32.9 seconds RetCode: 0 Status: OK PackageFile: idiogram_1.82.0.tar.gz PackageFileSize: 1.795 MiB