Package: ideal Version: 2.0.0 Command: rm -rf ideal.buildbin-libdir && mkdir ideal.buildbin-libdir && F:\biocbuild\bbs-3.20-bioc\R\bin\R.exe CMD INSTALL --build --library=ideal.buildbin-libdir ideal_2.0.0.tar.gz StartedAt: 2025-02-04 08:43:24 -0500 (Tue, 04 Feb 2025) EndedAt: 2025-02-04 08:44:54 -0500 (Tue, 04 Feb 2025) EllapsedTime: 89.8 seconds RetCode: 0 Status: OK PackageFile: ideal_2.0.0.zip PackageFileSize: 5.177 MiB