Package: icetea Version: 1.24.0 Command: /Library/Frameworks/R.framework/Resources/bin/R CMD INSTALL icetea StartedAt: 2025-02-03 15:48:25 -0500 (Mon, 03 Feb 2025) EndedAt: 2025-02-03 15:50:06 -0500 (Mon, 03 Feb 2025) EllapsedTime: 101.4 seconds RetCode: 0 Status: OK