Package: icetea Version: 1.24.0 Command: rm -rf icetea.buildbin-libdir && mkdir icetea.buildbin-libdir && /Users/biocbuild/BBS/utils/build-universal.sh icetea_1.24.0.tar.gz /Library/Frameworks/R.framework/Resources/bin/R icetea.buildbin-libdir StartedAt: 2025-02-04 13:10:11 -0500 (Tue, 04 Feb 2025) EndedAt: 2025-02-04 13:12:29 -0500 (Tue, 04 Feb 2025) EllapsedTime: 138.7 seconds RetCode: 0 Status: OK PackageFile: icetea_1.24.0.tgz PackageFileSize: 1.11 MiB