Package: ibh Version: 1.54.0 Command: rm -rf ibh.buildbin-libdir && mkdir ibh.buildbin-libdir && F:\biocbuild\bbs-3.20-bioc\R\bin\R.exe CMD INSTALL --build --library=ibh.buildbin-libdir ibh_1.54.0.tar.gz StartedAt: 2025-01-28 08:21:10 -0500 (Tue, 28 Jan 2025) EndedAt: 2025-01-28 08:21:15 -0500 (Tue, 28 Jan 2025) EllapsedTime: 5.3 seconds RetCode: 0 Status: OK PackageFile: ibh_1.54.0.zip PackageFileSize: 160.1 KiB