Package: iasva Version: 1.24.0 Command: /home/biocbuild/R/R/bin/R CMD build --keep-empty-dirs --no-resave-data iasva StartedAt: 2025-01-31 00:20:59 -0000 (Fri, 31 Jan 2025) EndedAt: 2025-01-31 00:22:09 -0000 (Fri, 31 Jan 2025) EllapsedTime: 70.0 seconds RetCode: 0 Status: OK PackageFile: iasva_1.24.0.tar.gz PackageFileSize: 924.4 KiB