Package: iasva Version: 1.24.0 Command: /Library/Frameworks/R.framework/Resources/bin/R CMD check --install=check:iasva.install-out.txt --library=/Library/Frameworks/R.framework/Resources/library --no-vignettes --timings iasva_1.24.0.tar.gz StartedAt: 2025-01-28 22:05:09 -0500 (Tue, 28 Jan 2025) EndedAt: 2025-01-28 22:08:47 -0500 (Tue, 28 Jan 2025) EllapsedTime: 218.2 seconds RetCode: 0 Status: OK CheckDir: iasva.Rcheck Warnings: 0