Package: iSeq Version: 1.58.0 Command: chmod a+r iSeq -R && F:\biocbuild\bbs-3.20-bioc\R\bin\R.exe CMD build --keep-empty-dirs --no-resave-data iSeq StartedAt: 2025-01-27 19:43:46 -0500 (Mon, 27 Jan 2025) EndedAt: 2025-01-27 19:44:28 -0500 (Mon, 27 Jan 2025) EllapsedTime: 41.9 seconds RetCode: 0 Status: OK PackageFile: iSeq_1.58.0.tar.gz PackageFileSize: 1.2 MiB