Package: iSeq Version: 1.58.0 Command: /Library/Frameworks/R.framework/Resources/bin/R CMD check --install=check:iSeq.install-out.txt --library=/Library/Frameworks/R.framework/Resources/library --no-vignettes --timings iSeq_1.58.0.tar.gz StartedAt: 2025-04-01 04:42:53 -0400 (Tue, 01 Apr 2025) EndedAt: 2025-04-01 04:43:53 -0400 (Tue, 01 Apr 2025) EllapsedTime: 60.0 seconds RetCode: 0 Status: OK CheckDir: iSeq.Rcheck Warnings: 0