Package: iSEEu Version: 1.18.0 Command: /home/biocbuild/R/R/bin/R CMD INSTALL iSEEu StartedAt: 2025-02-03 21:00:01 -0000 (Mon, 03 Feb 2025) EndedAt: 2025-02-03 21:00:44 -0000 (Mon, 03 Feb 2025) EllapsedTime: 43.3 seconds RetCode: 0 Status: OK