Package: iSEEu Version: 1.18.0 Command: /home/biocbuild/R/R/bin/R CMD check --install=check:iSEEu.install-out.txt --library=/home/biocbuild/R/R/site-library --no-vignettes --timings iSEEu_1.18.0.tar.gz StartedAt: 2025-01-31 07:28:32 -0000 (Fri, 31 Jan 2025) EndedAt: 2025-01-31 07:34:18 -0000 (Fri, 31 Jan 2025) EllapsedTime: 346.5 seconds RetCode: 0 Status: WARNINGS CheckDir: iSEEu.Rcheck Warnings: 1