Package: iSEEu Version: 1.18.0 Command: /home/biocbuild/R/R/bin/R CMD build --keep-empty-dirs --no-resave-data iSEEu StartedAt: 2025-01-31 00:28:54 -0000 (Fri, 31 Jan 2025) EndedAt: 2025-01-31 00:31:39 -0000 (Fri, 31 Jan 2025) EllapsedTime: 165.1 seconds RetCode: 0 Status: OK PackageFile: iSEEu_1.18.0.tar.gz PackageFileSize: 1.644 MiB