Package: iSEEu Version: 1.18.0 Command: /Library/Frameworks/R.framework/Resources/bin/R CMD build --keep-empty-dirs --no-resave-data iSEEu StartedAt: 2025-01-30 20:06:43 -0500 (Thu, 30 Jan 2025) EndedAt: 2025-01-30 20:10:34 -0500 (Thu, 30 Jan 2025) EllapsedTime: 230.5 seconds RetCode: 0 Status: OK PackageFile: iSEEu_1.18.0.tar.gz PackageFileSize: 1.62 MiB